BEGIN:VCALENDAR
VERSION:2.0
PRODID:-//RCAC - 539//EN
METHOD:PUBLISH
X-WR-CALNAME;VALUE=TEXT: RCAC - 539
X-PUBLISHED-TTL:PT15M
X-ORIGINAL-URL:https://www.rcac.purdue.edu/news/calendar/539
CALSCALE:GREGORIAN
BEGIN:VTIMEZONE
TZID:America/Indianapolis
LAST-MODIFIED:20050809T050000Z
BEGIN:STANDARD
DTSTART:20261101T060000
TZOFFSETFROM:-0400
TZOFFSETTO:-0500
TZNAME:EST
END:STANDARD
BEGIN:DAYLIGHT
DTSTART:20260308T070000
TZOFFSETFROM:-0500
TZOFFSETTO:-0400
TZNAME:EDT
END:DAYLIGHT
END:VTIMEZONE
BEGIN:VEVENT
UID:539@https://www.rcac.purdue.edu/news
DTSTAMP:20260421T103934
DTSTART;TZID=America/Indianapolis:20120727T000000
DTEND;TZID=America/Indianapolis:20121231T235959
CREATED:20120727T000000
LAST-MODIFIED:20170330T090403
SUMMARY:Pegasus project leader, White House advanced manufacturing adviser 
	to speak at HUBzero conference
DESCRIPTION:
URL;VALUE=URI:https://www.rcac.purdue.edu/news/539
END:VEVENT
END:VCALENDAR
