BEGIN:VCALENDAR
VERSION:2.0
PRODID:-//RCAC - 569//EN
METHOD:PUBLISH
X-WR-CALNAME;VALUE=TEXT: RCAC - 569
X-PUBLISHED-TTL:PT15M
X-ORIGINAL-URL:https://www.rcac.purdue.edu/news/calendar/569
CALSCALE:GREGORIAN
BEGIN:VTIMEZONE
TZID:America/Indianapolis
LAST-MODIFIED:20050809T050000Z
BEGIN:STANDARD
DTSTART:20261101T060000
TZOFFSETFROM:-0400
TZOFFSETTO:-0500
TZNAME:EST
END:STANDARD
BEGIN:DAYLIGHT
DTSTART:20260308T070000
TZOFFSETFROM:-0500
TZOFFSETTO:-0400
TZNAME:EDT
END:DAYLIGHT
END:VTIMEZONE
BEGIN:VEVENT
UID:569@https://www.rcac.purdue.edu/news
DTSTAMP:20260421T211239
DTSTART;TZID=America/Indianapolis:20130128T000000
DTEND;TZID=America/Indianapolis:20131231T235959
CREATED:20130128T000000
LAST-MODIFIED:20140528T175355
SUMMARY:Tech talks to cover virtual and augmented reality, modeling and ani
	mation, simulated environments
DESCRIPTION:
URL;VALUE=URI:https://www.rcac.purdue.edu/news/569
END:VEVENT
END:VCALENDAR
